BEGIN:VCALENDAR
VERSION:2.0
PRODID:icalendar-ruby
CALSCALE:GREGORIAN
METHOD:PUBLISH
BEGIN:VEVENT
DTSTAMP:20260423T035016Z
UID:210-743908@riverchristian.org
DTSTART:20260620T160000Z
DTEND:20260620T180000Z
CLASS:PUBLIC
CREATED:20260416T125304
DESCRIPTION:
LAST-MODIFIED:20260416T125304
LOCATION:The River Christian Church\, 10475 W 4th Street\, Reno\, NV\, US 8
 9523
SUMMARY:Men's Breakfast and Fellowship
URL;VALUE=URI:https://riverchristian.org/events/mens-breakfast-and-fellowsh
 ip/2026-06-20
ATTACH;FILENAME=Dave-Novak.jpg;FMTTYPE=image/jpeg:https://dq5pwpg1q8ru0.clo
 udfront.net/2026/04/16/19/53/04/72b625c0-22a4-464e-9dd1-0ff3f24376a3/Dave-
 Novak.jpg
END:VEVENT
END:VCALENDAR
