BEGIN:VCALENDAR
VERSION:2.0
PRODID:icalendar-ruby
CALSCALE:GREGORIAN
METHOD:PUBLISH
BEGIN:VEVENT
DTSTAMP:20260423T033854Z
UID:209-743907@riverchristian.org
DTSTART:20260710T230000Z
DTEND:20260711T040000Z
CLASS:PUBLIC
CREATED:20260416T124546
DESCRIPTION:
LAST-MODIFIED:20260416T124546
LOCATION:The Reno Aces Ballpark Greater Field
SUMMARY:Reno Aces Faith Night
URL;VALUE=URI:https://riverchristian.org/events/reno-aces-faith-night/2026-
 07-10
ATTACH;FILENAME=Reno-Aces.jpg;FMTTYPE=image/jpeg:https://dq5pwpg1q8ru0.clou
 dfront.net/2026/04/16/19/45/45/1349e6d9-aa75-4ae4-9988-f0cfd3ef1562/Reno-A
 ces.jpg
END:VEVENT
END:VCALENDAR
