BEGIN:VCALENDAR
VERSION:2.0
PRODID:icalendar-ruby
CALSCALE:GREGORIAN
METHOD:PUBLISH
BEGIN:VEVENT
DTSTAMP:20260420T130308Z
UID:195-690776@riverchristian.org
DTSTART:20260426T190000Z
DTEND:20260426T230000Z
CLASS:PUBLIC
CREATED:20260401T162129
DESCRIPTION:
LAST-MODIFIED:20260401T162129
LOCATION:
SUMMARY:Snowshoeing or hiking and fellowship
URL;VALUE=URI:https://riverchristian.org/events/snowshoeing-or-hiking-and-f
 ellowship/2026-04-26
ATTACH;FILENAME=snowshoe-hike.jpg;FMTTYPE=image/jpeg:https://dq5pwpg1q8ru0.
 cloudfront.net/2026/02/28/00/07/14/da9480c1-1488-4556-8b3d-9f76dddfb4a3/sn
 owshoe-hike.jpg
END:VEVENT
END:VCALENDAR
